BEGIN:VCALENDAR
VERSION:2.0
PRODID:spatie/icalendar-generator
BEGIN:VTIMEZONE
TZID:UTC
BEGIN:STANDARD
DTSTART:20250707T115715
TZOFFSETFROM:+0000
TZOFFSETTO:+0000
END:STANDARD
END:VTIMEZONE
BEGIN:VEVENT
UID:f3729776-9067-4ca5-bc53-e2cffc70b4bb--0
DTSTAMP:20260403T115715Z
SUMMARY:Tabakologie en Rookstopbegeleiding
LOCATION:
ORGANIZER;CN=The GHALL:MAILTO:ghall@ugent.be
DTSTART:20260919T064500Z
DTEND:20270619T150000Z
END:VEVENT
END:VCALENDAR