BEGIN:VCALENDAR
VERSION:2.0
PRODID:spatie/icalendar-generator
BEGIN:VTIMEZONE
TZID:UTC
BEGIN:STANDARD
DTSTART:20250707T113908
TZOFFSETFROM:+0000
TZOFFSETTO:+0000
END:STANDARD
END:VTIMEZONE
BEGIN:VEVENT
UID:2b6a3162-86f6-4227-9378-435dec23a36b--0
DTSTAMP:20260403T113908Z
SUMMARY:Basic musculoskeletal ultrasound course for the rheumatologist
LOCATION:
ORGANIZER;CN=The GHALL:MAILTO:ghall@ugent.be
DTSTART:20261130T073000Z
DTEND:20261203T163000Z
END:VEVENT
BEGIN:VEVENT
UID:2b6a3162-86f6-4227-9378-435dec23a36b--1
DTSTAMP:20260403T113908Z
SUMMARY:Basic musculoskeletal ultrasound course for the rheumatologist
LOCATION:
ORGANIZER;CN=The GHALL:MAILTO:ghall@ugent.be
DTSTART:20261231T230000Z
DTEND:20270629T220000Z
END:VEVENT
END:VCALENDAR